BEGIN:VCALENDAR
VERSION:2.0
PRODID:-//News@Wilkes - ECPv6.15.18//NONSGML v1.0//EN
CALSCALE:GREGORIAN
METHOD:PUBLISH
X-ORIGINAL-URL:https://news.wilkes.edu
X-WR-CALDESC:Events for News@Wilkes
REFRESH-INTERVAL;VALUE=DURATION:PT1H
X-Robots-Tag:noindex
X-PUBLISHED-TTL:PT1H
BEGIN:VTIMEZONE
TZID:America/New_York
BEGIN:DAYLIGHT
TZOFFSETFROM:-0500
TZOFFSETTO:-0400
TZNAME:EDT
DTSTART:20240310T070000
END:DAYLIGHT
BEGIN:STANDARD
TZOFFSETFROM:-0400
TZOFFSETTO:-0500
TZNAME:EST
DTSTART:20241103T060000
END:STANDARD
BEGIN:DAYLIGHT
TZOFFSETFROM:-0500
TZOFFSETTO:-0400
TZNAME:EDT
DTSTART:20250309T070000
END:DAYLIGHT
BEGIN:STANDARD
TZOFFSETFROM:-0400
TZOFFSETTO:-0500
TZNAME:EST
DTSTART:20251102T060000
END:STANDARD
BEGIN:DAYLIGHT
TZOFFSETFROM:-0500
TZOFFSETTO:-0400
TZNAME:EDT
DTSTART:20260308T070000
END:DAYLIGHT
BEGIN:STANDARD
TZOFFSETFROM:-0400
TZOFFSETTO:-0500
TZNAME:EST
DTSTART:20261101T060000
END:STANDARD
END:VTIMEZONE
BEGIN:VEVENT
DTSTART;TZID=America/New_York:20250812T083000
DTEND;TZID=America/New_York:20250812T170000
DTSTAMP:20260421T172330
CREATED:20250512T131321Z
LAST-MODIFIED:20250512T131324Z
UID:10003420-1754987400-1755018000@news.wilkes.edu
SUMMARY:Discover Pharmacy (Session 2)
DESCRIPTION:High school juniors and seniors who are considering majoring in pharmacy can register for Discover Pharmacy\, a two-day camp offered by Wilkes University’s Nesbitt School of Pharmacy. \n\n\n\nDiscover Pharmacy will give you an opportunity to talk with current pharmacy students\, faculty\, deans and working pharmacists. The camp combines fun and learning to introduce you to pharmacy’s dynamic blend of science and patient care. \n\n\n\nThis year\, we are offering two sessions to accommodate even more attendees!
URL:https://news.wilkes.edu/event/discover-pharmacy-session-2/
CATEGORIES:Admissions
END:VEVENT
BEGIN:VEVENT
DTSTART;TZID=America/New_York:20250730T130000
DTEND;TZID=America/New_York:20250730T160000
DTSTAMP:20260421T172330
CREATED:20250605T133148Z
LAST-MODIFIED:20250605T133152Z
UID:10003430-1753880400-1753891200@news.wilkes.edu
SUMMARY:Virtual Personalized Transfer Sessions
DESCRIPTION:Looking to transfer to Wilkes? Our transfer counselors are ready to help you get started! Sign up for a one-on-one session to receive a credit evaluation of your college transcripts and discuss your path to becoming a Wilkes student.
URL:https://news.wilkes.edu/event/virtual-personalized-transfer-sessions-10/
CATEGORIES:Admissions
END:VEVENT
BEGIN:VEVENT
DTSTART;TZID=America/New_York:20250724T120000
DTEND;TZID=America/New_York:20250724T130000
DTSTAMP:20260421T172330
CREATED:20250515T170635Z
LAST-MODIFIED:20250515T190151Z
UID:10003422-1753358400-1753362000@news.wilkes.edu
SUMMARY:Paying for College Virtual Presentations
DESCRIPTION:Getting ready to start college this fall? Wondering about ways to pay for college? We’ve got you covered! If you are a new first-year or transfer student planning to attend Wilkes this fall\, you (and your family) are invited to our Paying for College virtual event. Join our financial aid experts from the comfort of home to learn more about federal and private loans\, scholarships\, our payment plan\, important dates and more – everything you need to explore your financial options. Admitted students can register for one of the below dates by using your student Admissions Application Portal login.
URL:https://news.wilkes.edu/event/paying-for-college-virtual-presentations-3/
CATEGORIES:Admissions
END:VEVENT
BEGIN:VEVENT
DTSTART;TZID=America/New_York:20250724T090000
DTEND;TZID=America/New_York:20250724T120000
DTSTAMP:20260421T172330
CREATED:20250605T133106Z
LAST-MODIFIED:20250605T133109Z
UID:10003429-1753347600-1753358400@news.wilkes.edu
SUMMARY:Virtual Personalized Transfer Sessions
DESCRIPTION:Looking to transfer to Wilkes? Our transfer counselors are ready to help you get started! Sign up for a one-on-one session to receive a credit evaluation of your college transcripts and discuss your path to becoming a Wilkes student.
URL:https://news.wilkes.edu/event/virtual-personalized-transfer-sessions-9/
CATEGORIES:Admissions
END:VEVENT
BEGIN:VEVENT
DTSTART;TZID=America/New_York:20250723T203000
DTEND;TZID=America/New_York:20250723T220000
DTSTAMP:20260421T172330
CREATED:20250716T173729Z
LAST-MODIFIED:20250716T174313Z
UID:10003440-1753302600-1753308000@news.wilkes.edu
SUMMARY:Summer Film Series: July
DESCRIPTION:Join us throughout the summer for monthly film screenings outside on the Karambelas Gateway in the summer evenings.  \n\n\n\n\nFri. 6/27\, 8:30 pm\n\n\n\nWed. 7/23\, 8:30 pm\n\n\n\nWed. 8/20\, 8:30 pm\n\n\n\n\nPlease follow our social media (@sordonigallery) for more information about the series\, including featured films and weather updates.
URL:https://news.wilkes.edu/event/summer-film-series-2/
ATTACH;FMTTYPE=image/jpeg:https://news.wilkes.edu/wp-content/uploads/2025/06/SUMMER-designs-01-c8a57e823bd9d0fca64a8792a0531d99-scaled.jpg
END:VEVENT
BEGIN:VEVENT
DTSTART;TZID=America/New_York:20250721T150000
DTEND;TZID=America/New_York:20250721T160000
DTSTAMP:20260421T172330
CREATED:20250515T170459Z
LAST-MODIFIED:20250515T190030Z
UID:10003421-1753110000-1753113600@news.wilkes.edu
SUMMARY:Paying for College Virtual Presentations
DESCRIPTION:Getting ready to start college this fall? Wondering about ways to pay for college? We’ve got you covered! If you are a new first-year or transfer student planning to attend Wilkes this fall\, you (and your family) are invited to our Paying for College virtual event. Join our financial aid experts from the comfort of home to learn more about federal and private loans\, scholarships\, our payment plan\, important dates and more – everything you need to explore your financial options. Admitted students can register for one of the below dates by using your student Admissions Application Portal login.
URL:https://news.wilkes.edu/event/paying-for-college-virtual-presentations-2/
CATEGORIES:Admissions
END:VEVENT
BEGIN:VEVENT
DTSTART;TZID=America/New_York:20250720T123000
DTEND;TZID=America/New_York:20250725T123000
DTSTAMP:20260421T172330
CREATED:20240904T135930Z
LAST-MODIFIED:20250616T150932Z
UID:10002045-1753014600-1753446600@news.wilkes.edu
SUMMARY:We're Empowered by Science (WEBS) Summer Science Camp
DESCRIPTION:The We’re Empowered by Science (WEBS) Summer Science Camp welcomes campers who have a sincere interest in the sciences. The WEBS program is designed to: \n\n\n\n\nEmpower young people to pursue an education and a career in STEM fields.\n\n\n\nExpose participants to multiple STEM-based fields.\n\n\n\nIntroduce participants to a college campus.\n\n\n\nConnect participants with Wilkes University professors\, staff\, and students as well as STEM professionals from the community.\n\n\n\nProvide a positive laboratory experience where participants can question\, investigate\, learn and analyze using fun\, interactive\, hands-on experiments\, as well as develop important laboratory skills.\n\n\n\nEncourage team-building and collaboration amongst young people.\n\n\n\nCreate young leaders.\n\n\n\n\nThe WEBS 1.0 Camp is open to first and second year campers entering grades 7 and 8. Examples of some of the hands-on experiments across various disciplines in science that these campers will have the chance to partake in include: exploring neuroscience by making brain cakes\, assembling a human skeleton after going on a bone scavenger hunt\, solving crimes CSI style\, programming their own robots\, and so much more! \n\n\n\nThe WEBS 2.0 Camp is open to returning campers entering grades 9-12. The WEBS 2.0 program was created at the request of campers who aged out of our WEBS 1.0 program\, but who still wanted to participate in the WEBS experience. The lab offerings for the 2.0 program changes yearly so that returning  campers are not completing the same experiments year after year and exposes these individuals to areas of science that they likely have not yet experienced. Examples of previous 2.0 programming includes learning how to suture\, creating a public service announcement about a hot topic in science\, making yogurt using concepts of microbiology\, and so much more! Throughout the week\, 2.0 campers will also have opportunities to attend off-site field trips and to serve as mentors to younger WEBS campers. \n\n\n\nTuition for the 6 day camp running Sunday 7/20/25 through Friday 7/25/25 is $300\, which includes daily snacks and drinks\, a t-shirt\, a drawstring bag filled with lab safety equipment and supplies\, and lots of FUN hands-on laboratory experiences! Scholarships are available for those with financial need. Contact program director\, Debra Chapman (debra.chapman@wilkes.edu)\, for an application.
URL:https://news.wilkes.edu/event/were-empowered-by-science-webs-summer-science-camp/
LOCATION:Cohen science center\, 104 S River St\, Wilkes-Barre\, Pennsylvania\, 18701\, United States
END:VEVENT
END:VCALENDAR