BEGIN:VCALENDAR
VERSION:2.0
PRODID:-//News@Wilkes - ECPv6.15.18//NONSGML v1.0//EN
CALSCALE:GREGORIAN
METHOD:PUBLISH
X-WR-CALNAME:News@Wilkes
X-ORIGINAL-URL:https://news.wilkes.edu
X-WR-CALDESC:Events for News@Wilkes
REFRESH-INTERVAL;VALUE=DURATION:PT1H
X-Robots-Tag:noindex
X-PUBLISHED-TTL:PT1H
BEGIN:VTIMEZONE
TZID:America/New_York
BEGIN:DAYLIGHT
TZOFFSETFROM:-0500
TZOFFSETTO:-0400
TZNAME:EDT
DTSTART:20240310T070000
END:DAYLIGHT
BEGIN:STANDARD
TZOFFSETFROM:-0400
TZOFFSETTO:-0500
TZNAME:EST
DTSTART:20241103T060000
END:STANDARD
BEGIN:DAYLIGHT
TZOFFSETFROM:-0500
TZOFFSETTO:-0400
TZNAME:EDT
DTSTART:20250309T070000
END:DAYLIGHT
BEGIN:STANDARD
TZOFFSETFROM:-0400
TZOFFSETTO:-0500
TZNAME:EST
DTSTART:20251102T060000
END:STANDARD
BEGIN:DAYLIGHT
TZOFFSETFROM:-0500
TZOFFSETTO:-0400
TZNAME:EDT
DTSTART:20260308T070000
END:DAYLIGHT
BEGIN:STANDARD
TZOFFSETFROM:-0400
TZOFFSETTO:-0500
TZNAME:EST
DTSTART:20261101T060000
END:STANDARD
END:VTIMEZONE
BEGIN:VEVENT
DTSTART;TZID=America/New_York:20251028T110000
DTEND;TZID=America/New_York:20251028T130000
DTSTAMP:20260419T234904
CREATED:20251003T203519Z
LAST-MODIFIED:20251006T120153Z
UID:18220-1761649200-1761656400@news.wilkes.edu
SUMMARY:PPHS - Temple Podiatry Visit
DESCRIPTION:Join us in welcoming Mr. Martin\, a representative from Temple Podiatry\, to talk about their program\, average student academic timeline\, and much more!!  \nOrganized by: Pre-Professional Health Society\n \n\nShare this… \n\n\n  \n    \n  \n \n\n  \n\n \nFacebook\n\n\n    \n    \n\n\n	\n	\n\n \nTwitter\n\n\n  \n    \n  \n \n\n\n\n\n\n \nLinkedin\n\n\nBluesky\n\n\n  \n    \n  \n \n\n  \n\n \nEmail
URL:https://news.wilkes.edu/event/pphs-temple-podiatry-visit/
END:VEVENT
END:VCALENDAR