BEGIN:VCALENDAR
VERSION:2.0
PRODID:-//News@Wilkes - ECPv6.15.18//NONSGML v1.0//EN
CALSCALE:GREGORIAN
METHOD:PUBLISH
X-WR-CALNAME:News@Wilkes
X-ORIGINAL-URL:https://news.wilkes.edu
X-WR-CALDESC:Events for News@Wilkes
REFRESH-INTERVAL;VALUE=DURATION:PT1H
X-Robots-Tag:noindex
X-PUBLISHED-TTL:PT1H
BEGIN:VTIMEZONE
TZID:America/New_York
BEGIN:DAYLIGHT
TZOFFSETFROM:-0500
TZOFFSETTO:-0400
TZNAME:EDT
DTSTART:20240310T070000
END:DAYLIGHT
BEGIN:STANDARD
TZOFFSETFROM:-0400
TZOFFSETTO:-0500
TZNAME:EST
DTSTART:20241103T060000
END:STANDARD
BEGIN:DAYLIGHT
TZOFFSETFROM:-0500
TZOFFSETTO:-0400
TZNAME:EDT
DTSTART:20250309T070000
END:DAYLIGHT
BEGIN:STANDARD
TZOFFSETFROM:-0400
TZOFFSETTO:-0500
TZNAME:EST
DTSTART:20251102T060000
END:STANDARD
BEGIN:DAYLIGHT
TZOFFSETFROM:-0500
TZOFFSETTO:-0400
TZNAME:EDT
DTSTART:20260308T070000
END:DAYLIGHT
BEGIN:STANDARD
TZOFFSETFROM:-0400
TZOFFSETTO:-0500
TZNAME:EST
DTSTART:20261101T060000
END:STANDARD
END:VTIMEZONE
BEGIN:VEVENT
DTSTART;TZID=America/New_York:20251028T110000
DTEND;TZID=America/New_York:20251028T120000
DTSTAMP:20260419T233422
CREATED:20250928T193555Z
LAST-MODIFIED:20250929T120100Z
UID:18172-1761649200-1761652800@news.wilkes.edu
SUMMARY:PharmCAS Info Session
DESCRIPTION:Listen to Mr. Collins and Mr. Knight explain the ins and outs of applying through the PharmCAS portal. This is a great way for freshman and sophomore pre-pharmacy students to get helpful information on the dos and dont’s before filling out the application.  \nOrganized by: Pre-Pharmacy Club\n \n\nShare this… \n\n\n  \n    \n  \n \n\n  \n\n \nFacebook\n\n\n    \n    \n\n\n	\n	\n\n \nTwitter\n\n\n  \n    \n  \n \n\n\n\n\n\n \nLinkedin\n\n\nBluesky\n\n\n  \n    \n  \n \n\n  \n\n \nEmail
URL:https://news.wilkes.edu/event/pharmcas-info-session/
END:VEVENT
END:VCALENDAR