BEGIN:VCALENDAR
VERSION:2.0
PRODID:-//News@Wilkes - ECPv6.15.18//NONSGML v1.0//EN
CALSCALE:GREGORIAN
METHOD:PUBLISH
X-WR-CALNAME:News@Wilkes
X-ORIGINAL-URL:https://news.wilkes.edu
X-WR-CALDESC:Events for News@Wilkes
REFRESH-INTERVAL;VALUE=DURATION:PT1H
X-Robots-Tag:noindex
X-PUBLISHED-TTL:PT1H
BEGIN:VTIMEZONE
TZID:America/New_York
BEGIN:DAYLIGHT
TZOFFSETFROM:-0500
TZOFFSETTO:-0400
TZNAME:EDT
DTSTART:20240310T070000
END:DAYLIGHT
BEGIN:STANDARD
TZOFFSETFROM:-0400
TZOFFSETTO:-0500
TZNAME:EST
DTSTART:20241103T060000
END:STANDARD
BEGIN:DAYLIGHT
TZOFFSETFROM:-0500
TZOFFSETTO:-0400
TZNAME:EDT
DTSTART:20250309T070000
END:DAYLIGHT
BEGIN:STANDARD
TZOFFSETFROM:-0400
TZOFFSETTO:-0500
TZNAME:EST
DTSTART:20251102T060000
END:STANDARD
BEGIN:DAYLIGHT
TZOFFSETFROM:-0500
TZOFFSETTO:-0400
TZNAME:EDT
DTSTART:20260308T070000
END:DAYLIGHT
BEGIN:STANDARD
TZOFFSETFROM:-0400
TZOFFSETTO:-0500
TZNAME:EST
DTSTART:20261101T060000
END:STANDARD
END:VTIMEZONE
BEGIN:VEVENT
DTSTART;TZID=America/New_York:20251111T110000
DTEND;TZID=America/New_York:20251111T130000
DTSTAMP:20260419T152550
CREATED:20250918T172218Z
LAST-MODIFIED:20250918T174155Z
UID:18040-1762858800-1762866000@news.wilkes.edu
SUMMARY:Career Development Month: Ready\, Set\, Resume
DESCRIPTION:Bring your resume and get rapid\, one-on-one feedback from Career Center staff\, peer interns\, and campus partners. In 10–15 minutes\, you’ll get actionable tips on formatting\, content\, and presentation – everything you need to make your resume stronger and more polished. Perfect for students looking to apply for internships\, jobs\, or graduate programs.  \nOrganized by: Center for Career Development & Internships (CCDI)\n \n\nShare this… \n\n\n  \n    \n  \n \n\n  \n\n \nFacebook\n\n\n    \n    \n\n\n	\n	\n\n \nTwitter\n\n\n  \n    \n  \n \n\n\n\n\n\n \nLinkedin\n\n\nBluesky\n\n\n  \n    \n  \n \n\n  \n\n \nEmail
URL:https://news.wilkes.edu/event/career-development-month-ready-set-resume/
END:VEVENT
END:VCALENDAR