BEGIN:VCALENDAR
VERSION:2.0
PRODID:-//News@Wilkes - ECPv6.15.18//NONSGML v1.0//EN
CALSCALE:GREGORIAN
METHOD:PUBLISH
X-WR-CALNAME:News@Wilkes
X-ORIGINAL-URL:https://news.wilkes.edu
X-WR-CALDESC:Events for News@Wilkes
REFRESH-INTERVAL;VALUE=DURATION:PT1H
X-Robots-Tag:noindex
X-PUBLISHED-TTL:PT1H
BEGIN:VTIMEZONE
TZID:America/New_York
BEGIN:DAYLIGHT
TZOFFSETFROM:-0500
TZOFFSETTO:-0400
TZNAME:EDT
DTSTART:20240310T070000
END:DAYLIGHT
BEGIN:STANDARD
TZOFFSETFROM:-0400
TZOFFSETTO:-0500
TZNAME:EST
DTSTART:20241103T060000
END:STANDARD
BEGIN:DAYLIGHT
TZOFFSETFROM:-0500
TZOFFSETTO:-0400
TZNAME:EDT
DTSTART:20250309T070000
END:DAYLIGHT
BEGIN:STANDARD
TZOFFSETFROM:-0400
TZOFFSETTO:-0500
TZNAME:EST
DTSTART:20251102T060000
END:STANDARD
BEGIN:DAYLIGHT
TZOFFSETFROM:-0500
TZOFFSETTO:-0400
TZNAME:EDT
DTSTART:20260308T070000
END:DAYLIGHT
BEGIN:STANDARD
TZOFFSETFROM:-0400
TZOFFSETTO:-0500
TZNAME:EST
DTSTART:20261101T060000
END:STANDARD
END:VTIMEZONE
BEGIN:VEVENT
DTSTART;TZID=America/New_York:20251118T110000
DTEND;TZID=America/New_York:20251118T130000
DTSTAMP:20260419T104829
CREATED:20250918T172223Z
LAST-MODIFIED:20250918T174004Z
UID:18044-1763463600-1763470800@news.wilkes.edu
SUMMARY:Career Development Month: Collaging Your Career
DESCRIPTION:Explore your career values\, goals\, and skills in a creative\, hands-on workshop. Using collage and visual storytelling\, you’ll reflect on what matters most in your career journey and translate your insights into actionable steps. Facilitated by collage artist Joanna Wallace\, this session offers a relaxed\, focused environment where students can express themselves\, discover key NACE competencies to strengthen\, and identify next steps for your professional growth. All supplies are provided! No artistic experience required\, just bring your curiosity! Seating is limited so be sure to register early on Handshake!  \nOrganized by: Center for Career Development & Internships (CCDI)\n \n\nShare this… \n\n\n  \n    \n  \n \n\n  \n\n \nFacebook\n\n\n    \n    \n\n\n	\n	\n\n \nTwitter\n\n\n  \n    \n  \n \n\n\n\n\n\n \nLinkedin\n\n\nBluesky\n\n\n  \n    \n  \n \n\n  \n\n \nEmail
URL:https://news.wilkes.edu/event/career-development-month-collaging-your-career/
END:VEVENT
END:VCALENDAR